BEGIN:VCALENDAR
VERSION:2.0
PRODID:-//HKOWT news - ECPv6.15.20//NONSGML v1.0//EN
CALSCALE:GREGORIAN
METHOD:PUBLISH
X-ORIGINAL-URL:https://hkworldnews.online
X-WR-CALDESC:Évènements pour HKOWT news
REFRESH-INTERVAL;VALUE=DURATION:PT1H
X-Robots-Tag:noindex
X-PUBLISHED-TTL:PT1H
BEGIN:VTIMEZONE
TZID:Europe/Zurich
BEGIN:DAYLIGHT
TZOFFSETFROM:+0100
TZOFFSETTO:+0200
TZNAME:CEST
DTSTART:20250330T010000
END:DAYLIGHT
BEGIN:STANDARD
TZOFFSETFROM:+0200
TZOFFSETTO:+0100
TZNAME:CET
DTSTART:20251026T010000
END:STANDARD
BEGIN:DAYLIGHT
TZOFFSETFROM:+0100
TZOFFSETTO:+0200
TZNAME:CEST
DTSTART:20260329T010000
END:DAYLIGHT
BEGIN:STANDARD
TZOFFSETFROM:+0200
TZOFFSETTO:+0100
TZNAME:CET
DTSTART:20261025T010000
END:STANDARD
BEGIN:DAYLIGHT
TZOFFSETFROM:+0100
TZOFFSETTO:+0200
TZNAME:CEST
DTSTART:20270328T010000
END:DAYLIGHT
BEGIN:STANDARD
TZOFFSETFROM:+0200
TZOFFSETTO:+0100
TZNAME:CET
DTSTART:20271031T010000
END:STANDARD
END:VTIMEZONE
BEGIN:VEVENT
DTSTART;TZID=Europe/Zurich:20260518T080000
DTEND;TZID=Europe/Zurich:20260520T170000
DTSTAMP:20260423T130018
CREATED:20260422T153315Z
LAST-MODIFIED:20260422T160801Z
UID:1121-1779091200-1779296400@hkworldnews.online
SUMMARY:Open source Summit in Minneapolis May 18-20.
DESCRIPTION:Open source is moving faster than ever – and the people building what’s next will be in Minneapolis May 18-20. \n  \n \n  \n\n\n\n\n\n\nOpen Source Summit + Embedded Linux Conference North America brings together the engineers\, maintainers\, and leaders behind Linux\, cloud\, AI\, and the systems powering modern software\, and it’s just weeks away. \n\n⭐ NEW Keynote Panel Just Announced \n\nFrom Repo to Rocketship: How Open Source Foundations Supercharge AI Ecosystems – Stephen Chin\, Neo4j • Lin Sun\, Solo.io • Jakub Kuderski\, AMD • Deepyaman Datta\, Open Source Maintainer \n\n\n\n\n\n\n\n\n\n\n\n\n\n\n \n\n\n\n\n\n\n\n\n\n\n\n\n\n\nStill deciding? Here’s why to join (and save $300 through May 4): \n\n1. A Technical Program That Covers the Full Stack\n225+ sessions across 12 tracks – from Linux kernel to AI/ML and cloud. Learn from the engineers behind the code and walk away with solutions you can apply immediately. \n\n2. Specialized Events\, All in One Place\nObservability Summit\, Linux Security Summit\, and more. Focused programs tackling real-world challenges. domain experts\, and tailor your experience to your goals. View all co-located events and add-on during registration. \n  \n3. Real Connections with the Open Source Community\nMeet the people behind the projects though Ask the Experts\, the LFX Mentorship Showcase\, and the Solutions Showcase. Whether you’re hiring\, learning\, or collaborating\, this is where it happens. \n\n4. Networking That Doesn’t Feel Like Networking\nFrom the Mill City Museum and Tux Trek receptions to project meetups and After-Hours Hangouts\, this is where collaboration starts. \n\n5. Built for the Whole Community\nWellness activities\, inclusive gatherings\, discounted passes\, and Kids Day – designed for everyone. \n\n🧘 Morning wellness activities like the 5K fun run\n🤝 Inclusive gatherings including Better Together and Women & Non-Binary lunches\n🌈 Onsite resources like Zen Zones\, nursing rooms\, and all-gender restrooms\n🎓 Discounted passes for academics\, hobbyists\, small businesses\, and more\n👩‍💻 Kids Day for the next generation of open source contributors \n\n\n\n\n\n\n  \n 
URL:https://hkworldnews.online/event/open-source-summit-in-minneapolis-may-18-20/
LOCATION:people building\, Minneapolis\, United States
CATEGORIES:Opensource
ATTACH;FMTTYPE=image/png:https://hkworldnews.online/wp-content/uploads/2026/04/opensource_summit.png
END:VEVENT
END:VCALENDAR